BEGIN:VCALENDAR
VERSION:2.0
PRODID:-//Robert John Smith - ECPv6.15.20//NONSGML v1.0//EN
CALSCALE:GREGORIAN
METHOD:PUBLISH
X-WR-CALNAME:Robert John Smith
X-ORIGINAL-URL:https://robertjsmithtx.com
X-WR-CALDESC:Events for Robert John Smith
REFRESH-INTERVAL;VALUE=DURATION:PT1H
X-Robots-Tag:noindex
X-PUBLISHED-TTL:PT1H
BEGIN:VTIMEZONE
TZID:America/Chicago
BEGIN:DAYLIGHT
TZOFFSETFROM:-0600
TZOFFSETTO:-0500
TZNAME:CDT
DTSTART:20200308T080000
END:DAYLIGHT
BEGIN:STANDARD
TZOFFSETFROM:-0500
TZOFFSETTO:-0600
TZNAME:CST
DTSTART:20201101T070000
END:STANDARD
BEGIN:DAYLIGHT
TZOFFSETFROM:-0600
TZOFFSETTO:-0500
TZNAME:CDT
DTSTART:20210314T080000
END:DAYLIGHT
BEGIN:STANDARD
TZOFFSETFROM:-0500
TZOFFSETTO:-0600
TZNAME:CST
DTSTART:20211107T070000
END:STANDARD
BEGIN:DAYLIGHT
TZOFFSETFROM:-0600
TZOFFSETTO:-0500
TZNAME:CDT
DTSTART:20220313T080000
END:DAYLIGHT
BEGIN:STANDARD
TZOFFSETFROM:-0500
TZOFFSETTO:-0600
TZNAME:CST
DTSTART:20221106T070000
END:STANDARD
END:VTIMEZONE
BEGIN:VEVENT
DTSTART;TZID=America/Chicago:20210201T180000
DTEND;TZID=America/Chicago:20210201T233000
DTSTAMP:20260422T000522
CREATED:20210112T000014Z
LAST-MODIFIED:20210112T000014Z
UID:3070-1612202400-1612222200@robertjsmithtx.com
SUMMARY:Work Session
DESCRIPTION:
URL:https://robertjsmithtx.com/index.php/event/work-session-37/
END:VEVENT
BEGIN:VEVENT
DTSTART;TZID=America/Chicago:20210202T190000
DTEND;TZID=America/Chicago:20210202T233000
DTSTAMP:20260422T000522
CREATED:20210111T045535Z
LAST-MODIFIED:20210111T045610Z
UID:3054-1612292400-1612308600@robertjsmithtx.com
SUMMARY:Council Meeting
DESCRIPTION:
URL:https://robertjsmithtx.com/index.php/event/legislative-affairs-committee-3/
END:VEVENT
BEGIN:VEVENT
DTSTART;TZID=America/Chicago:20210204T183000
DTEND;TZID=America/Chicago:20210204T203000
DTSTAMP:20260422T000522
CREATED:20210111T045509Z
LAST-MODIFIED:20210111T045509Z
UID:3052-1612463400-1612470600@robertjsmithtx.com
SUMMARY:District 4 Town Hall
DESCRIPTION:District 4 Virtual Town Hall\nFeb 4\, 2021 6:30 p.m. \nDistrict 4 Council Member\, BJ Williams\, would like to hear from you!  Come Join Council Member Williams for a virtual Town Hall meeting on Thursday\, Feb 4 at 6:30 p.m. via Zoom. \nRegister in advance for this webinar: \nhttps://garlandtx.zoom.us/j/99812063438?pwd=SGZOanRyMDg3YmZneVRlZUpCdWtHQT09 \nAfter registering\, you will receive a confirmation email containing information about joining the webinar. \nFor those without internet access to the meeting\, a dial-in option is available: \n346-248-7799\n470-250-9358\n470-381-2552 \nThe Webinar Meeting ID is: (998 1206 3438) \nEmail Council4@GarlandTX.gov for more information.
URL:https://robertjsmithtx.com/index.php/event/district-4-town-hall/
END:VEVENT
BEGIN:VEVENT
DTSTART;TZID=America/Chicago:20210209T183000
DTEND;TZID=America/Chicago:20210209T193000
DTSTAMP:20260422T000522
CREATED:20210111T235444Z
LAST-MODIFIED:20210111T235444Z
UID:3061-1612895400-1612899000@robertjsmithtx.com
SUMMARY:State of the City Address
DESCRIPTION:
URL:https://robertjsmithtx.com/index.php/event/state-of-the-city-address/
END:VEVENT
BEGIN:VEVENT
DTSTART;TZID=America/Chicago:20210215T180000
DTEND;TZID=America/Chicago:20210215T233000
DTSTAMP:20260422T000522
CREATED:20210111T045636Z
LAST-MODIFIED:20210111T045648Z
UID:3058-1613412000-1613431800@robertjsmithtx.com
SUMMARY:Work Session
DESCRIPTION:
URL:https://robertjsmithtx.com/index.php/event/council-meeting-52/
END:VEVENT
BEGIN:VEVENT
DTSTART;TZID=America/Chicago:20210216T190000
DTEND;TZID=America/Chicago:20210216T233000
DTSTAMP:20260422T000522
CREATED:20210112T000047Z
LAST-MODIFIED:20210112T000047Z
UID:3072-1613502000-1613518200@robertjsmithtx.com
SUMMARY:Council Meeting
DESCRIPTION:
URL:https://robertjsmithtx.com/index.php/event/council-meeting-53/
END:VEVENT
END:VCALENDAR