BEGIN:VCALENDAR
VERSION:2.0
PRODID:-//Robert John Smith - ECPv6.15.20//NONSGML v1.0//EN
CALSCALE:GREGORIAN
METHOD:PUBLISH
X-WR-CALNAME:Robert John Smith
X-ORIGINAL-URL:https://robertjsmithtx.com
X-WR-CALDESC:Events for Robert John Smith
REFRESH-INTERVAL;VALUE=DURATION:PT1H
X-Robots-Tag:noindex
X-PUBLISHED-TTL:PT1H
BEGIN:VTIMEZONE
TZID:America/Chicago
BEGIN:DAYLIGHT
TZOFFSETFROM:-0600
TZOFFSETTO:-0500
TZNAME:CDT
DTSTART:20160313T080000
END:DAYLIGHT
BEGIN:STANDARD
TZOFFSETFROM:-0500
TZOFFSETTO:-0600
TZNAME:CST
DTSTART:20161106T070000
END:STANDARD
BEGIN:DAYLIGHT
TZOFFSETFROM:-0600
TZOFFSETTO:-0500
TZNAME:CDT
DTSTART:20170312T080000
END:DAYLIGHT
BEGIN:STANDARD
TZOFFSETFROM:-0500
TZOFFSETTO:-0600
TZNAME:CST
DTSTART:20171105T070000
END:STANDARD
BEGIN:DAYLIGHT
TZOFFSETFROM:-0600
TZOFFSETTO:-0500
TZNAME:CDT
DTSTART:20180311T080000
END:DAYLIGHT
BEGIN:STANDARD
TZOFFSETFROM:-0500
TZOFFSETTO:-0600
TZNAME:CST
DTSTART:20181104T070000
END:STANDARD
END:VTIMEZONE
BEGIN:VEVENT
DTSTART;TZID=America/Chicago:20171221T190000
DTEND;TZID=America/Chicago:20171221T203000
DTSTAMP:20260420T132606
CREATED:20171213T065653Z
LAST-MODIFIED:20171213T065653Z
UID:1124-1513882800-1513888200@robertjsmithtx.com
SUMMARY:Granger Stakeholder's Meeting
DESCRIPTION:The City of Garland Parks\, Recreation & Cultural Arts Department staff will discuss ideas and solicit input on the dog park and skate park projects during a stakeholder meeting from 7 to 8:30 p.m. Thursday\, Dec. 21\, at the Granger Recreation Center Annex Building\, 1302 W. Avenue F. The meeting will include a presentation of area maps and program requirements related to the proposed site locations for the two projects within Central Park.
URL:https://robertjsmithtx.com/index.php/event/granger-stakeholders-meeting/
END:VEVENT
END:VCALENDAR